BEGIN:VCALENDAR
VERSION:2.0
PRODID:-//LMAURA - ECPv6.15.5//NONSGML v1.0//EN
CALSCALE:GREGORIAN
METHOD:PUBLISH
X-WR-CALNAME:LMAURA
X-ORIGINAL-URL:https://www.lmaura.org
X-WR-CALDESC:Évènements pour LMAURA
REFRESH-INTERVAL;VALUE=DURATION:PT1H
X-Robots-Tag:noindex
X-PUBLISHED-TTL:PT1H
BEGIN:VTIMEZONE
TZID:Europe/Paris
BEGIN:DAYLIGHT
TZOFFSETFROM:+0100
TZOFFSETTO:+0200
TZNAME:CEST
DTSTART:20190331T010000
END:DAYLIGHT
BEGIN:STANDARD
TZOFFSETFROM:+0200
TZOFFSETTO:+0100
TZNAME:CET
DTSTART:20191027T010000
END:STANDARD
END:VTIMEZONE
BEGIN:VEVENT
DTSTART;VALUE=DATE:20191110
DTEND;VALUE=DATE:20191111
DTSTAMP:20260424T064509
CREATED:20190222T055323Z
LAST-MODIFIED:20190222T055323Z
UID:3841-1573344000-1573430399@www.lmaura.org
SUMMARY:La TRANSPIRE  X-Trem
DESCRIPTION:
URL:https://www.lmaura.org/evenement/la-transpire-x-trem/
LOCATION:SAINT PIERRE DUCHAMP
CATEGORIES:Enduro & Endurance TT
END:VEVENT
BEGIN:VEVENT
DTSTART;VALUE=DATE:20191124
DTEND;VALUE=DATE:20191125
DTSTAMP:20260424T064509
CREATED:20190712T192214Z
LAST-MODIFIED:20190712T192249Z
UID:4491-1574553600-1574639999@www.lmaura.org
SUMMARY:Course sur Prairie de QUEUILLE
DESCRIPTION:
URL:https://www.lmaura.org/evenement/course-sur-prairie-de-queuille/
LOCATION:QUEUILLE
CATEGORIES:Enduro & Endurance TT,Motocross
END:VEVENT
END:VCALENDAR