BEGIN:VCALENDAR
VERSION:2.0
PRODID:-//LMAURA - ECPv6.15.5//NONSGML v1.0//EN
CALSCALE:GREGORIAN
METHOD:PUBLISH
X-ORIGINAL-URL:https://www.lmaura.org
X-WR-CALDESC:Évènements pour LMAURA
REFRESH-INTERVAL;VALUE=DURATION:PT1H
X-Robots-Tag:noindex
X-PUBLISHED-TTL:PT1H
BEGIN:VTIMEZONE
TZID:Europe/Paris
BEGIN:DAYLIGHT
TZOFFSETFROM:+0100
TZOFFSETTO:+0200
TZNAME:CEST
DTSTART:20200329T010000
END:DAYLIGHT
BEGIN:STANDARD
TZOFFSETFROM:+0200
TZOFFSETTO:+0100
TZNAME:CET
DTSTART:20201025T010000
END:STANDARD
END:VTIMEZONE
BEGIN:VEVENT
DTSTART;VALUE=DATE:20200105
DTEND;VALUE=DATE:20200107
DTSTAMP:20260424T062237
CREATED:20180502T060613Z
LAST-MODIFIED:20200501T121042Z
UID:2290-1578182400-1578355199@www.lmaura.org
SUMMARY:La TAILL-HARD X Trem
DESCRIPTION:
URL:https://www.lmaura.org/evenement/la-taill-hard-x-trem/
LOCATION:LA TAILLADE
CATEGORIES:Enduro & Endurance TT
END:VEVENT
BEGIN:VEVENT
DTSTART;VALUE=DATE:20200105
DTEND;VALUE=DATE:20200106
DTSTAMP:20260424T062237
CREATED:20190221T065053Z
LAST-MODIFIED:20201022T162954Z
UID:3811-1578182400-1578268799@www.lmaura.org
SUMMARY:Enduro de La COMBELLE
DESCRIPTION:Championnat d’Europe Motos Anciennes \nChampionnat de France Motos Anciennes \nFamily
URL:https://www.lmaura.org/evenement/enduro-de-la-combelle/
LOCATION:La COMBELLE
CATEGORIES:Enduro & Endurance TT
END:VEVENT
BEGIN:VEVENT
DTSTART;VALUE=DATE:20200105
DTEND;VALUE=DATE:20200106
DTSTAMP:20260424T062237
CREATED:20190222T055840Z
LAST-MODIFIED:20200501T070359Z
UID:3846-1578182400-1578268799@www.lmaura.org
SUMMARY:Endurance TT de SAINT CIRGUES en MONTAGNE
DESCRIPTION:Championnat de Ligue AuRA
URL:https://www.lmaura.org/evenement/endurance-tt-de-saint-cirgues-en-montagne/
LOCATION:SAINT CIRGUES EN MONTAGNE
CATEGORIES:Enduro & Endurance TT
END:VEVENT
BEGIN:VEVENT
DTSTART;VALUE=DATE:20200105
DTEND;VALUE=DATE:20200107
DTSTAMP:20260424T062237
CREATED:20200122T122137Z
LAST-MODIFIED:20200501T070049Z
UID:5195-1578182400-1578355199@www.lmaura.org
SUMMARY:Cross Country de LEYNHAC
DESCRIPTION:Championnat de France
URL:https://www.lmaura.org/evenement/cross-country-de-leynhac/
LOCATION:LEYNHAC
CATEGORIES:Enduro & Endurance TT
GEO:46.227638;2.213749
END:VEVENT
BEGIN:VEVENT
DTSTART;VALUE=DATE:20200105
DTEND;VALUE=DATE:20200106
DTSTAMP:20260424T062237
CREATED:20200124T125320Z
LAST-MODIFIED:20200703T102025Z
UID:5234-1578182400-1578268799@www.lmaura.org
SUMMARY:Endurance TT de SAINT SORLIN en VALLOIRE
DESCRIPTION:Championnat de ligue AuRA
URL:https://www.lmaura.org/evenement/endurance-tt-de-saint-sorlin-en-valloire/
LOCATION:SAINT SORLIN en VALLOIRE
CATEGORIES:Enduro & Endurance TT
END:VEVENT
BEGIN:VEVENT
DTSTART;VALUE=DATE:20200105
DTEND;VALUE=DATE:20200106
DTSTAMP:20260424T062237
CREATED:20200124T125721Z
LAST-MODIFIED:20200921T112524Z
UID:5237-1578182400-1578268799@www.lmaura.org
SUMMARY:Endurance TT de SAINT BAUDILLE et PIPET
DESCRIPTION:Hors Championnat\n \n  \n  \n  \n 
URL:https://www.lmaura.org/evenement/endurance-tt-de-saint-baudille-et-pipet/
LOCATION:SAINT BAUDILLE et PIPET
CATEGORIES:Enduro & Endurance TT
END:VEVENT
BEGIN:VEVENT
DTSTART;VALUE=DATE:20200105
DTEND;VALUE=DATE:20200106
DTSTAMP:20260424T062237
CREATED:20200124T125956Z
LAST-MODIFIED:20201031T105406Z
UID:5241-1578182400-1578268799@www.lmaura.org
SUMMARY:Endurance TT de LANGEAC
DESCRIPTION:Hors Championnat \n  \n  \n  \n 
URL:https://www.lmaura.org/evenement/endurance-tt-de-langeac/
LOCATION:LANGEAC
CATEGORIES:Enduro & Endurance TT
END:VEVENT
BEGIN:VEVENT
DTSTART;VALUE=DATE:20200105
DTEND;VALUE=DATE:20200106
DTSTAMP:20260424T062237
CREATED:20200211T074259Z
LAST-MODIFIED:20200916T060057Z
UID:5432-1578182400-1578268799@www.lmaura.org
SUMMARY:Endurance TT de SAINT ALBAN AURIOLLES
DESCRIPTION:Hors Championnat
URL:https://www.lmaura.org/evenement/endurance-tt-de-saint-alban-auriolles/
LOCATION:SAINT ALBAN AURIOLLES
CATEGORIES:Enduro & Endurance TT
END:VEVENT
BEGIN:VEVENT
DTSTART;VALUE=DATE:20200105
DTEND;VALUE=DATE:20200107
DTSTAMP:20260424T062237
CREATED:20190120T075420Z
LAST-MODIFIED:20200313T161337Z
UID:3455-1578182400-1578355199@www.lmaura.org
SUMMARY:Cross Country d'APCHAT
DESCRIPTION:Championnat de France \n  \n 
URL:https://www.lmaura.org/evenement/cross-country-dapchat/
LOCATION:APCHAT
CATEGORIES:Enduro & Endurance TT
GEO:46.227638;2.213749
END:VEVENT
END:VCALENDAR