BEGIN:VCALENDAR
VERSION:2.0
PRODID:-//LMAURA - ECPv6.15.5//NONSGML v1.0//EN
CALSCALE:GREGORIAN
METHOD:PUBLISH
X-ORIGINAL-URL:https://www.lmaura.org
X-WR-CALDESC:Évènements pour LMAURA
REFRESH-INTERVAL;VALUE=DURATION:PT1H
X-Robots-Tag:noindex
X-PUBLISHED-TTL:PT1H
BEGIN:VTIMEZONE
TZID:Europe/Paris
BEGIN:DAYLIGHT
TZOFFSETFROM:+0100
TZOFFSETTO:+0200
TZNAME:CEST
DTSTART:20210328T010000
END:DAYLIGHT
BEGIN:STANDARD
TZOFFSETFROM:+0200
TZOFFSETTO:+0100
TZNAME:CET
DTSTART:20211031T010000
END:STANDARD
END:VTIMEZONE
BEGIN:VEVENT
DTSTART;VALUE=DATE:20211002
DTEND;VALUE=DATE:20211004
DTSTAMP:20260423T133636
CREATED:20210720T061100Z
LAST-MODIFIED:20210720T061100Z
UID:6988-1633132800-1633305599@www.lmaura.org
SUMMARY:Enduro de LANGOGNE
DESCRIPTION:Championnat de FRANCE \nChampionnat de Ligue AURA \n  \n 
URL:https://www.lmaura.org/evenement/enduro-de-langogne/
LOCATION:LANGOGNE
CATEGORIES:Enduro & Endurance TT
END:VEVENT
BEGIN:VEVENT
DTSTART;VALUE=DATE:20211023
DTEND;VALUE=DATE:20211024
DTSTAMP:20260423T133636
CREATED:20180502T062810Z
LAST-MODIFIED:20210821T054916Z
UID:2315-1634947200-1635033599@www.lmaura.org
SUMMARY:EnduroKid de CHANAC
DESCRIPTION:Championnat de France \nChampionnat de Ligue AuRA  (jumelage)\n \n  \n 
URL:https://www.lmaura.org/evenement/endurokid-de-chanac/
LOCATION:CHANAC
CATEGORIES:Enduro & Endurance TT
END:VEVENT
END:VCALENDAR