BEGIN:VCALENDAR
VERSION:2.0
PRODID:-//LMAURA - ECPv6.15.5//NONSGML v1.0//EN
CALSCALE:GREGORIAN
METHOD:PUBLISH
X-WR-CALNAME:LMAURA
X-ORIGINAL-URL:https://www.lmaura.org
X-WR-CALDESC:Évènements pour LMAURA
REFRESH-INTERVAL;VALUE=DURATION:PT1H
X-Robots-Tag:noindex
X-PUBLISHED-TTL:PT1H
BEGIN:VTIMEZONE
TZID:Europe/Paris
BEGIN:DAYLIGHT
TZOFFSETFROM:+0100
TZOFFSETTO:+0200
TZNAME:CEST
DTSTART:20220327T010000
END:DAYLIGHT
BEGIN:STANDARD
TZOFFSETFROM:+0200
TZOFFSETTO:+0100
TZNAME:CET
DTSTART:20221030T010000
END:STANDARD
END:VTIMEZONE
BEGIN:VEVENT
DTSTART;VALUE=DATE:20220829
DTEND;VALUE=DATE:20220904
DTSTAMP:20260422T235503
CREATED:20220827T185119Z
LAST-MODIFIED:20220827T185416Z
UID:8404-1661731200-1662249599@www.lmaura.org
SUMMARY:ISDE
DESCRIPTION:
URL:https://www.lmaura.org/evenement/isde/
LOCATION:LE PUY EN VELAY
CATEGORIES:Enduro & Endurance TT
END:VEVENT
BEGIN:VEVENT
DTSTART;VALUE=DATE:20220910
DTEND;VALUE=DATE:20220911
DTSTAMP:20260422T235503
CREATED:20210118T082505Z
LAST-MODIFIED:20220819T052527Z
UID:6355-1662768000-1662854399@www.lmaura.org
SUMMARY:EnduroKid de SAINT JEAN la VETRE
DESCRIPTION:Championnat de Ligue AuRA \n  \n  \n 
URL:https://www.lmaura.org/evenement/enduro-de-palladuc/
LOCATION:SAINT JEAN LA VETRE\, France
CATEGORIES:Enduro & Endurance TT
GEO:46.227638;2.213749
END:VEVENT
BEGIN:VEVENT
DTSTART;VALUE=DATE:20220924
DTEND;VALUE=DATE:20220926
DTSTAMP:20260422T235503
CREATED:20180501T154311Z
LAST-MODIFIED:20211221T165124Z
UID:2228-1663977600-1664150399@www.lmaura.org
SUMMARY:Enduro de BRIOUDE
DESCRIPTION:Championnat de France
URL:https://www.lmaura.org/evenement/enduro-de-brioude/
LOCATION:BRIOUDE
CATEGORIES:Enduro & Endurance TT
END:VEVENT
END:VCALENDAR