BEGIN:VCALENDAR
VERSION:2.0
PRODID:-//LMAURA - ECPv6.15.5//NONSGML v1.0//EN
CALSCALE:GREGORIAN
METHOD:PUBLISH
X-ORIGINAL-URL:https://www.lmaura.org
X-WR-CALDESC:Évènements pour LMAURA
REFRESH-INTERVAL;VALUE=DURATION:PT1H
X-Robots-Tag:noindex
X-PUBLISHED-TTL:PT1H
BEGIN:VTIMEZONE
TZID:Europe/Paris
BEGIN:DAYLIGHT
TZOFFSETFROM:+0100
TZOFFSETTO:+0200
TZNAME:CEST
DTSTART:20230326T010000
END:DAYLIGHT
BEGIN:STANDARD
TZOFFSETFROM:+0200
TZOFFSETTO:+0100
TZNAME:CET
DTSTART:20231029T010000
END:STANDARD
END:VTIMEZONE
BEGIN:VEVENT
DTSTART;VALUE=DATE:20230930
DTEND;VALUE=DATE:20231002
DTSTAMP:20260422T075514
CREATED:20180501T155215Z
LAST-MODIFIED:20230322T072410Z
UID:2240-1696032000-1696204799@www.lmaura.org
SUMMARY:Enduro de MARCOLES
DESCRIPTION:Championnat d’EUROPE de Motos Anciennes \nChampionnat de FRANCE de Motos Anciennes \nChampionnat de Ligue AuRA
URL:https://www.lmaura.org/evenement/enduro-de-marcoles/
LOCATION:MARCOLES
CATEGORIES:Enduro & Endurance TT
END:VEVENT
BEGIN:VEVENT
DTSTART;VALUE=DATE:20231007
DTEND;VALUE=DATE:20231008
DTSTAMP:20260422T075514
CREATED:20230325T093834Z
LAST-MODIFIED:20230325T093834Z
UID:9176-1696636800-1696723199@www.lmaura.org
SUMMARY:EnduroKid de SAUGUES
DESCRIPTION:Championnat de Ligue AuRA \n  \n  \n 
URL:https://www.lmaura.org/evenement/endurokid-de-saugues/
LOCATION:SAUGUES
CATEGORIES:Enduro & Endurance TT
END:VEVENT
BEGIN:VEVENT
DTSTART;VALUE=DATE:20231008
DTEND;VALUE=DATE:20231009
DTSTAMP:20260422T075514
CREATED:20180117T083133Z
LAST-MODIFIED:20230325T094018Z
UID:1294-1696723200-1696809599@www.lmaura.org
SUMMARY:Endurance TT de SAUGUES
DESCRIPTION:Championnat de ligue AuRA \n  \n  \n  \n 
URL:https://www.lmaura.org/evenement/endurance-tt-de-saugues/
LOCATION:SAUGUES
CATEGORIES:Enduro & Endurance TT
END:VEVENT
END:VCALENDAR