BEGIN:VCALENDAR
VERSION:2.0
PRODID:-//LMAURA - ECPv6.15.5//NONSGML v1.0//EN
CALSCALE:GREGORIAN
METHOD:PUBLISH
X-WR-CALNAME:LMAURA
X-ORIGINAL-URL:https://www.lmaura.org
X-WR-CALDESC:Évènements pour LMAURA
REFRESH-INTERVAL;VALUE=DURATION:PT1H
X-Robots-Tag:noindex
X-PUBLISHED-TTL:PT1H
BEGIN:VTIMEZONE
TZID:Europe/Paris
BEGIN:DAYLIGHT
TZOFFSETFROM:+0100
TZOFFSETTO:+0200
TZNAME:CEST
DTSTART:20240331T010000
END:DAYLIGHT
BEGIN:STANDARD
TZOFFSETFROM:+0200
TZOFFSETTO:+0100
TZNAME:CET
DTSTART:20241027T010000
END:STANDARD
END:VTIMEZONE
BEGIN:VEVENT
DTSTART;VALUE=DATE:20240831
DTEND;VALUE=DATE:20240902
DTSTAMP:20260421T183848
CREATED:20180310T070321Z
LAST-MODIFIED:20240520T054250Z
UID:1763-1725062400-1725235199@www.lmaura.org
SUMMARY:Enduro de SAINT AGREVE
DESCRIPTION:Championnat de  FRANCE \nChampionnat de ligue AuRA
URL:https://www.lmaura.org/evenement/enduro-de-saint-agreve/
LOCATION:SAINT AGREVE
CATEGORIES:Enduro & Endurance TT
END:VEVENT
BEGIN:VEVENT
DTSTART;VALUE=DATE:20240907
DTEND;VALUE=DATE:20240908
DTSTAMP:20260421T183848
CREATED:20240404T144959Z
LAST-MODIFIED:20240404T144959Z
UID:10684-1725667200-1725753599@www.lmaura.org
SUMMARY:EnduroKid des SALLES
DESCRIPTION:Championnat de Ligue
URL:https://www.lmaura.org/evenement/endurokid-des-salles/
CATEGORIES:Enduro & Endurance TT
END:VEVENT
BEGIN:VEVENT
DTSTART;VALUE=DATE:20240913
DTEND;VALUE=DATE:20240916
DTSTAMP:20260421T183848
CREATED:20200124T073016Z
LAST-MODIFIED:20240304T163740Z
UID:5216-1726185600-1726444799@www.lmaura.org
SUMMARY:Mondial d'Enduro de BRIOUDE
DESCRIPTION:Finale du Championnat du Monde
URL:https://www.lmaura.org/evenement/isdt-brioude/
LOCATION:BRIOUDE
CATEGORIES:Enduro & Endurance TT
END:VEVENT
BEGIN:VEVENT
DTSTART;VALUE=DATE:20240921
DTEND;VALUE=DATE:20240922
DTSTAMP:20260421T183848
CREATED:20200124T081834Z
LAST-MODIFIED:20231220T065211Z
UID:5229-1726876800-1726963199@www.lmaura.org
SUMMARY:EnduroKid de BAS en BASSET
DESCRIPTION:Championnat de France \nChampionnat de ligue AuRA \n  \n 
URL:https://www.lmaura.org/evenement/endurokid-de-bas-en-basset/
LOCATION:BAS en BASSET
CATEGORIES:Enduro & Endurance TT
END:VEVENT
END:VCALENDAR