BEGIN:VCALENDAR
VERSION:2.0
PRODID:-//LMAURA - ECPv6.15.5//NONSGML v1.0//EN
CALSCALE:GREGORIAN
METHOD:PUBLISH
X-WR-CALNAME:LMAURA
X-ORIGINAL-URL:https://www.lmaura.org
X-WR-CALDESC:Évènements pour LMAURA
REFRESH-INTERVAL;VALUE=DURATION:PT1H
X-Robots-Tag:noindex
X-PUBLISHED-TTL:PT1H
BEGIN:VTIMEZONE
TZID:Europe/Paris
BEGIN:DAYLIGHT
TZOFFSETFROM:+0100
TZOFFSETTO:+0200
TZNAME:CEST
DTSTART:20210328T010000
END:DAYLIGHT
BEGIN:STANDARD
TZOFFSETFROM:+0200
TZOFFSETTO:+0100
TZNAME:CET
DTSTART:20211031T010000
END:STANDARD
END:VTIMEZONE
BEGIN:VEVENT
DTSTART;VALUE=DATE:20210828
DTEND;VALUE=DATE:20210829
DTSTAMP:20260423T185501
CREATED:20200124T074234Z
LAST-MODIFIED:20210821T054751Z
UID:5225-1630108800-1630195199@www.lmaura.org
SUMMARY:EnduroKid de MARCOLES
DESCRIPTION:Championnat de France \nChampionnat de ligue AuRA \n 
URL:https://www.lmaura.org/evenement/endurokid-de-marcoles/
LOCATION:MARCOLES
CATEGORIES:Enduro & Endurance TT
END:VEVENT
END:VCALENDAR