BEGIN:VCALENDAR
VERSION:2.0
PRODID:-//LMAURA - ECPv6.15.5//NONSGML v1.0//EN
CALSCALE:GREGORIAN
METHOD:PUBLISH
X-WR-CALNAME:LMAURA
X-ORIGINAL-URL:https://www.lmaura.org
X-WR-CALDESC:Évènements pour LMAURA
REFRESH-INTERVAL;VALUE=DURATION:PT1H
X-Robots-Tag:noindex
X-PUBLISHED-TTL:PT1H
BEGIN:VTIMEZONE
TZID:Europe/Paris
BEGIN:DAYLIGHT
TZOFFSETFROM:+0100
TZOFFSETTO:+0200
TZNAME:CEST
DTSTART:20220327T010000
END:DAYLIGHT
BEGIN:STANDARD
TZOFFSETFROM:+0200
TZOFFSETTO:+0100
TZNAME:CET
DTSTART:20221030T010000
END:STANDARD
END:VTIMEZONE
BEGIN:VEVENT
DTSTART;VALUE=DATE:20220625
DTEND;VALUE=DATE:20220627
DTSTAMP:20260423T041735
CREATED:20220120T172819Z
LAST-MODIFIED:20220120T172819Z
UID:7656-1656115200-1656287999@www.lmaura.org
SUMMARY:E-VTT de SUPER BESSE
DESCRIPTION:Coupe du MONDE \nChampionnat de FRANCE
URL:https://www.lmaura.org/evenement/e-vtt-de-super-besse/
LOCATION:SUPER BESSE
CATEGORIES:Enduro & Endurance TT
GEO:46.227638;2.213749
END:VEVENT
END:VCALENDAR