BEGIN:VCALENDAR
VERSION:2.0
PRODID:-//LMAURA - ECPv6.15.5//NONSGML v1.0//EN
CALSCALE:GREGORIAN
METHOD:PUBLISH
X-ORIGINAL-URL:https://www.lmaura.org
X-WR-CALDESC:Évènements pour LMAURA
REFRESH-INTERVAL;VALUE=DURATION:PT1H
X-Robots-Tag:noindex
X-PUBLISHED-TTL:PT1H
BEGIN:VTIMEZONE
TZID:Europe/Paris
BEGIN:DAYLIGHT
TZOFFSETFROM:+0100
TZOFFSETTO:+0200
TZNAME:CEST
DTSTART:20230326T010000
END:DAYLIGHT
BEGIN:STANDARD
TZOFFSETFROM:+0200
TZOFFSETTO:+0100
TZNAME:CET
DTSTART:20231029T010000
END:STANDARD
END:VTIMEZONE
BEGIN:VEVENT
DTSTART;VALUE=DATE:20230903
DTEND;VALUE=DATE:20230904
DTSTAMP:20260422T102902
CREATED:20230221T125708Z
LAST-MODIFIED:20230221T125708Z
UID:9085-1693699200-1693785599@www.lmaura.org
SUMMARY:Endurance TT du PILAT
DESCRIPTION:Championnat de Ligue AuRA \n  \n  \n 
URL:https://www.lmaura.org/evenement/endurance-tt-du-pilat/
LOCATION:SAINT PAUL en JAREZ\, France
CATEGORIES:Enduro & Endurance TT
GEO:46.227638;2.213749
END:VEVENT
END:VCALENDAR