BEGIN:VCALENDAR
VERSION:2.0
PRODID:-//LMAURA - ECPv6.15.5//NONSGML v1.0//EN
CALSCALE:GREGORIAN
METHOD:PUBLISH
X-ORIGINAL-URL:https://www.lmaura.org
X-WR-CALDESC:Évènements pour LMAURA
REFRESH-INTERVAL;VALUE=DURATION:PT1H
X-Robots-Tag:noindex
X-PUBLISHED-TTL:PT1H
BEGIN:VTIMEZONE
TZID:Europe/Paris
BEGIN:DAYLIGHT
TZOFFSETFROM:+0100
TZOFFSETTO:+0200
TZNAME:CEST
DTSTART:20240331T010000
END:DAYLIGHT
BEGIN:STANDARD
TZOFFSETFROM:+0200
TZOFFSETTO:+0100
TZNAME:CET
DTSTART:20241027T010000
END:STANDARD
END:VTIMEZONE
BEGIN:VEVENT
DTSTART;VALUE=DATE:20240317
DTEND;VALUE=DATE:20240318
DTSTAMP:20260422T041312
CREATED:20180118T055704Z
LAST-MODIFIED:20231215T164112Z
UID:1335-1710633600-1710719999@www.lmaura.org
SUMMARY:CHAMPIONNAT de FRANCE des REGIONS
DESCRIPTION:Championnat de France des Régions Saint Marcel d’Ardèche
URL:https://www.lmaura.org/evenement/enduro-de-saint-marcel-dardeche/
LOCATION:SAINT MARCEL d’ARDECHE
CATEGORIES:Enduro & Endurance TT
END:VEVENT
END:VCALENDAR