BEGIN:VCALENDAR
VERSION:2.0
PRODID:-//LMAURA - ECPv6.15.5//NONSGML v1.0//EN
CALSCALE:GREGORIAN
METHOD:PUBLISH
X-WR-CALNAME:LMAURA
X-ORIGINAL-URL:https://www.lmaura.org
X-WR-CALDESC:Évènements pour LMAURA
REFRESH-INTERVAL;VALUE=DURATION:PT1H
X-Robots-Tag:noindex
X-PUBLISHED-TTL:PT1H
BEGIN:VTIMEZONE
TZID:Europe/Paris
BEGIN:DAYLIGHT
TZOFFSETFROM:+0100
TZOFFSETTO:+0200
TZNAME:CEST
DTSTART:20200329T010000
END:DAYLIGHT
BEGIN:STANDARD
TZOFFSETFROM:+0200
TZOFFSETTO:+0100
TZNAME:CET
DTSTART:20201025T010000
END:STANDARD
END:VTIMEZONE
BEGIN:VEVENT
DTSTART;VALUE=DATE:20200105
DTEND;VALUE=DATE:20200106
DTSTAMP:20260423T132736
CREATED:20180310T071116Z
LAST-MODIFIED:20200501T065339Z
UID:1771-1578182400-1578268799@www.lmaura.org
SUMMARY:Rassemblement d'AUBIAT
DESCRIPTION:Championnat de FRANCE étape intermédiaire \n  \n 
URL:https://www.lmaura.org/evenement/rassemblement-daubiat/
LOCATION:AUBIAT
CATEGORIES:Tourisme
END:VEVENT
BEGIN:VEVENT
DTSTART;VALUE=DATE:20200105
DTEND;VALUE=DATE:20200107
DTSTAMP:20260423T132736
CREATED:20180501T154938Z
LAST-MODIFIED:20200703T102141Z
UID:2237-1578182400-1578355199@www.lmaura.org
SUMMARY:Rassemblement de TAIN l'HERMITAGE
DESCRIPTION:Championnat de France
URL:https://www.lmaura.org/evenement/rassemblement-de-sourcieux-les-mines/
LOCATION:TAIN L’HERMITAGE
CATEGORIES:Tourisme
END:VEVENT
END:VCALENDAR